BEGIN:VCALENDAR
VERSION:2.0
PRODID:-//Ziber2013/
CALSCALE:GREGORIAN
BEGIN:VEVENT
UID:259941@https://www.naturentuingoirle.nl
DTSTART:20260521T130000
DTEND:20260521T163000
SUMMARY:De tuin is vanmiddag open
DESCRIPTION:<p><b>Mei</b>\, alle tweejarigen bloeien nu. Er zijn nestelende vogels en volop insecten. Een heerlijke tijd!</p>
LOCATION:Naturentuin Goirle - Anneke Scholte\, Bezoekadres: Naturentuin\, Nieuwkerk 2\, 5051 PN                                     Goirle
ATTACH;FMTTYPE=image/jpeg:/content/17800/agenda/clnt/259941_org.jpg?width=1600&height=1200
SEQUENCE:0
DTSTAMP:20260424T103102
END:VEVENT
END:VCALENDAR
