BEGIN:VCALENDAR
VERSION:2.0
PRODID:-//Ziber2013/
CALSCALE:GREGORIAN
BEGIN:VEVENT
UID:259944@https://www.naturentuingoirle.nl
DTSTART:20260524T120000
DTEND:20260524T160000
SUMMARY:De tuin is vanmiddag open
DESCRIPTION:<p>Mei\, alle tweejarigen bloeien nu. Er zijn nestelende vogels en volop insecten. Een heerlijke tijd!</p>
LOCATION:Naturentuin Goirle - Anneke Scholte\, Bezoekadres: Naturentuin\, Nieuwkerk 2\, 5051 PN                                     Goirle
ATTACH;FMTTYPE=image/jpeg:/content/17800/agenda/clnt/97c5472f7cf84a7bb0bbcca64badab51.jpg?width=1600&height=1200
SEQUENCE:0
DTSTAMP:20260424T102734
END:VEVENT
END:VCALENDAR
