BEGIN:VCALENDAR
VERSION:2.0
PRODID:-//Ziber2013/
CALSCALE:GREGORIAN
BEGIN:VEVENT
UID:259945@https://www.naturentuingoirle.nl
DTSTART:20260517T120000
DTEND:20260517T160000
SUMMARY:Biodiversiteitsdag
DESCRIPTION:<p>Biodiversiteitsdag als onderdeel van de Week van de Biodiversiteit. Tzt meer nieuws in het nieuwsbericht op deze site. Met voor de kinderen een Dierenbingo. En voor de volwassenen tweemaal een rondleiding Biodiversiteit door tuininrichting (opgave noodzakelijk).</p><p>Mei\, alle tweejarigen bloeien nu. Er zijn nestelende vogels en volop insecten. Een heerlijke tijd!</p>
LOCATION:Naturentuin Goirle - Anneke Scholte\, Bezoekadres: Naturentuin\, Nieuwkerk 2\, 5051 PN                                     Goirle
ATTACH;FMTTYPE=image/jpeg:/content/17800/agenda/clnt/81c41ff4f1714adb9e3011dd41ec1951.jpg?width=1600&height=1200
SEQUENCE:0
DTSTAMP:20260424T084756
END:VEVENT
END:VCALENDAR
